Workbook

Sheet Instruccions
A1: #VALUE!
A3: INSTRUCCIONS PER OMPLIR LA MEMÒRIA
A6: Es considera efectivament pagada la despesa, a l'efecte de considerar-la subvencionable, amb la cessió del dret de cobrament de la subvenció a favor dels creditors per raó de la despesa realitzada, o amb el lliurament a aquests d'un efecte mercantil garantit per una entitat financera o companyia d'assegurances.
A8: Totes les despeses són subvencionables segons la base 8.2, s'han pagat dins del període d'execució i no superen el valor de mercat.​
A10: Cal omplir les pestanyes següents: "Despeses entitat 1" i/o "Despeses entitat 2" i "Liquidació pressupost", que corresponen a la documentació exigida als apartats 21.5.b i 21.5.e de les bases reguladores.

Sheet Despeses entitat 1
A1: #VALUE!
A4: Entitat 1 | D4: NIF
A5: Nom del projecte
A6: Abreviació
A8: Actuació | B8: Concepte de despesa | I8: Import total | J8: % desplaçaments (màxim 20 %) | K8: % altres despeses (màxim 20 %) | L8: Import subcontractat (màxim 40 %) | M8: % import subcontractat (màxim 40 %)
B9: Personal de suport | C9: Material bibliogràfic | D9: Material fungible | E9: Desplaçaments (màxim 20 %) | F9: Accions de comunicació (exclosos congressos) | G9: Informe de difusió | H9: Altres despeses (màxim 20 %)
A10: a) | I10: =SUM(B10:H10) -> 0 | J10: =E10/I10 -> #DIV/0! | K10: =H10/I10 -> #DIV/0! | M10: =L10/I10 -> #DIV/0!
A11: b) | I11: =SUM(B11:H11) -> 0 | J11: =E11/I11 -> #DIV/0! | K11: =H11/I11 -> #DIV/0! | M11: =L11/I11 -> #DIV/0!
A12: c) | I12: =SUM(B12:H12) -> 0 | J12: =E12/I12 -> #DIV/0! | K12: =H12/I12 -> #DIV/0! | M12: =L12/I12 -> #DIV/0!
A13: d) | I13: =SUM(B13:H13) -> 0 | J13: =E13/I13 -> #DIV/0! | K13: =H13/I13 -> #DIV/0! | M13: =L13/I13 -> #DIV/0!
A14: e) | I14: =SUM(B14:H14) -> 0 | J14: =E14/I14 -> #DIV/0! | K14: =H14/I14 -> #DIV/0! | M14: =L14/I14 -> #DIV/0!
A15: Altres actuacions | I15: =SUM(B15:H15) -> 0 | J15: =E15/I15 -> #DIV/0! | K15: =H15/I15 -> #DIV/0! | M15: =L15/I15 -> #DIV/0!
A16: Altres actuacions | I16: =SUM(B16:H16) -> 0 | J16: =E16/I16 -> #DIV/0! | K16: =H16/I16 -> #DIV/0! | M16: =L16/I16 -> #DIV/0!
A17: Altres actuacions | I17: =SUM(B17:H17) -> 0 | J17: =E17/I17 -> #DIV/0! | K17: =H17/I17 -> #DIV/0! | M17: =L17/I17 -> #DIV/0!
A18: Altres actuacions | I18: =SUM(B18:H18) -> 0 | J18: =E18/I18 -> #DIV/0! | K18: =H18/I18 -> #DIV/0! | M18: =L18/I18 -> #DIV/0!
A19: Altres actuacions | I19: =SUM(B19:H19) -> 0 | J19: =E19/I19 -> #DIV/0! | K19: =H19/I19 -> #DIV/0! | M19: =L19/I19 -> #DIV/0!
A20: Altres actuacions | I20: =SUM(B20:H20) -> 0 | J20: =E20/I20 -> #DIV/0! | K20: =H20/I20 -> #DIV/0! | M20: =L20/I20 -> #DIV/0!
A21: Altres actuacions | I21: =SUM(B21:H21) -> 0 | J21: =E21/I21 -> #DIV/0! | K21: =H21/I21 -> #DIV/0! | M21: =L21/I21 -> #DIV/0!
... A79: Altres actuacions | I79: =SUM(B79:H79) -> 0 | J79: =E79/I79 -> #DIV/0! | K79: =H79/I79 -> #DIV/0! | M79: =L79/I79 -> #DIV/0!
A80: Total | B80: =SUM(B10:B79) -> 0 | C80: =SUM(C10:C79) -> 0 | D80: =SUM(D10:D79) -> 0 | E80: =SUM(E10:E79) -> 0 | F80: =SUM(F10:F79) -> 0 | G80: =SUM(G10:G79) -> 0 | H80: =SUM(H10:H79) -> 0 | I80: =SUM(I10:I79) -> 0 | J80: =E80/I80 -> #DIV/0! | K80: =H80/I80 -> #DIV/0! | L80: =SUM(L10:L79) -> 0 | M80: =L80/I80 -> #DIV/0!

Sheet Despeses entitat 2
A1: #VALUE!
A4: Entitat 2 | D4: NIF
A5: Nom del projecte
A6: Abreviació
A8: Actuació | B8: Concepte de despesa | I8: Import total | J8: % desplaçaments (màxim 20 %) | K8: % altres despeses (màxim 20 %) | L8: Import subcontractat (màxim 40 %) | M8: % import subcontractat (màxim 40 %)
B9: Personal de suport | C9: Material bibliogràfic | D9: Material fungible | E9: Desplaçaments (màxim 20 %) | F9: Accions de comunicació (exclosos congressos) | G9: Informe de difusió | H9: Altres despeses (màxim 20 %)
A10: a) | I10: =SUM(B10:H10) -> 0 | J10: =E10/I10 -> #DIV/0! | K10: =H10/I10 -> #DIV/0! | M10: =L10/I10 -> #DIV/0!
A11: b) | I11: =SUM(B11:H11) -> 0 | J11: =E11/I11 -> #DIV/0! | K11: =H11/I11 -> #DIV/0! | M11: =L11/I11 -> #DIV/0!
A12: c) | I12: =SUM(B12:H12) -> 0 | J12: =E12/I12 -> #DIV/0! | K12: =H12/I12 -> #DIV/0! | M12: =L12/I12 -> #DIV/0!
A13: d) | I13: =SUM(B13:H13) -> 0 | J13: =E13/I13 -> #DIV/0! | K13: =H13/I13 -> #DIV/0! | M13: =L13/I13 -> #DIV/0!
A14: e) | I14: =SUM(B14:H14) -> 0 | J14: =E14/I14 -> #DIV/0! | K14: =H14/I14 -> #DIV/0! | M14: =L14/I14 -> #DIV/0!
A15: Altres actuacions | I15: =SUM(B15:H15) -> 0 | J15: =E15/I15 -> #DIV/0! | K15: =H15/I15 -> #DIV/0! | M15: =L15/I15 -> #DIV/0!
A16: Altres actuacions | I16: =SUM(B16:H16) -> 0 | J16: =E16/I16 -> #DIV/0! | K16: =H16/I16 -> #DIV/0! | M16: =L16/I16 -> #DIV/0!
A17: Altres actuacions | I17: =SUM(B17:H17) -> 0 | J17: =E17/I17 -> #DIV/0! | K17: =H17/I17 -> #DIV/0! | M17: =L17/I17 -> #DIV/0!
A18: Altres actuacions | I18: =SUM(B18:H18) -> 0 | J18: =E18/I18 -> #DIV/0! | K18: =H18/I18 -> #DIV/0! | M18: =L18/I18 -> #DIV/0!
A19: Altres actuacions | I19: =SUM(B19:H19) -> 0 | J19: =E19/I19 -> #DIV/0! | K19: =H19/I19 -> #DIV/0! | M19: =L19/I19 -> #DIV/0!
A20: Altres actuacions | I20: =SUM(B20:H20) -> 0 | J20: =E20/I20 -> #DIV/0! | K20: =H20/I20 -> #DIV/0! | M20: =L20/I20 -> #DIV/0!
A21: Altres actuacions | I21: =SUM(B21:H21) -> 0 | J21: =E21/I21 -> #DIV/0! | K21: =H21/I21 -> #DIV/0! | M21: =L21/I21 -> #DIV/0!
... A79: Altres actuacions | I79: =SUM(B79:H79) -> 0 | J79: =E79/I79 -> #DIV/0! | K79: =H79/I79 -> #DIV/0! | M79: =L79/I79 -> #DIV/0!
A80: Total | B80: =SUM(B10:B79) -> 0 | C80: =SUM(C10:C79) -> 0 | D80: =SUM(D10:D79) -> 0 | E80: =SUM(E10:E79) -> 0 | F80: =SUM(F10:F79) -> 0 | G80: =SUM(G10:G79) -> 0 | H80: =SUM(H10:H79) -> 0 | I80: =SUM(I10:I79) -> 0 | J80: =E80/I80 -> #DIV/0! | K80: =H80/I80 -> #DIV/0! | L80: =SUM(L10:L79) -> 0 | M80: =L80/I80 -> #DIV/0!

Sheet Liquidació pressupost
A1: #VALUE!
A4: Per entitats
F6: Import total | G6: % desplaçaments (màxim 20 %) | H6: % altres despeses (màxim 20 %) | I6: Import subcontractat (màxim 40 %) | J6: % import subcontractat (màxim 40 %)
A8: Entitat 1 | D8: NIF | F8: ='Despeses entitat 1'!I80 -> 0 | G8: ='Despeses entitat 1'!J80 -> #DIV/0! | H8: ='Despeses entitat 1'!K80 -> #DIV/0! | I8: ='Despeses entitat 1'!L80 -> 0 | J8: ='Despeses entitat 1'!M80 -> #DIV/0!
A9: Entitat 2 | D9: NIF | F9: ='Despeses entitat 2'!I80 -> 0 | G9: ='Despeses entitat 2'!J80 -> #DIV/0! | H9: ='Despeses entitat 2'!K80 -> #DIV/0! | I9: ='Despeses entitat 2'!L80 -> 0 | J9: ='Despeses entitat 2'!M80 -> #DIV/0!
A11: Import total de l'agrupament | F11: =F8+F9 -> 0 | G11: =('Despeses entitat 1'!E80+'Despeses entitat 2'!E80)/$F$11 -> #DIV/0! | H11: =('Despeses entitat 1'!H80+'Despeses entitat 2'!H80)/$F$11 -> #DIV/0! | I11: =I8+I9 -> 0 | J11: =I11/$F$11 -> #DIV/0!
A13: Pressupost del projecte. Ingressos i despeses
A15: Raó social: | H15: NIF:
A16: Nom del projecte:
A17: Modalitat de subvenció:
A20: Despeses de l'activitat | F20: Ingressos obtinguts o previstos
A21: Concepte | C21: Import | F21: Concepte | H21: Import
A22: Despeses de personal de suport | C22: =('Despeses entitat 1'!B80+'Despeses entitat 2'!B80) -> 0 | F22: Subvenció sol·licitada al Departament d'Educació i Formació Professional
A23: Material bibliogràfic | C23: ='Despeses entitat 1'!C80+'Despeses entitat 2'!C80 -> 0 | F23: Recursos propis de l'entitat
A24: Material fungible | C24: =('Despeses entitat 1'!D80+'Despeses entitat 2'!D80) -> 0
A25: Desplaçaments | C25: =('Despeses entitat 1'!E80+'Despeses entitat 2'!E80) -> 0
A26: Accions de comunicació (exclosos congressos) | C26: =('Despeses entitat 1'!F80+'Despeses entitat 2'!F80) -> 0
A27: Despeses de l'informe de difusió | C27: =('Despeses entitat 1'!G80+'Despeses entitat 2'!G80) -> 0
A28: Altres despeses (màxim 20%) | C28: =('Despeses entitat 1'!H80+'Despeses entitat 2'!H80) -> 0
A29: Total de despeses directes | C29: =SUM(C22:D28) -> 0 | F29: Total d'ingressos | H29: =H22+H23 -> 0
